BEGIN:VCALENDAR
VERSION:2.0
PRODID:icalendar-ruby
CALSCALE:GREGORIAN
METHOD:PUBLISH
BEGIN:VEVENT
DTSTAMP:20260425T122331Z
UID:3-757306@christcovenantchurch.ca
DTSTART:20260808T020000Z
DTEND:20260808T050000Z
CLASS:PUBLIC
CREATED:20260425T043718
DESCRIPTION:At Youth and Young Adults\, our focus is on developing a biblic
 al worldview by studying hermeneutics and apologetics. We would love for y
 ou to join us as we dive into the word of God.
LAST-MODIFIED:20260425T043718
LOCATION:1012 Chem. Saint-Clare Montreal\, Quebec H3R 2N1
SUMMARY:Youth & Young Adults
URL;VALUE=URI:https://www.christcovenantchurch.ca/events/youth-young-adults
 /2026-08-07
ATTACH;FILENAME=hannah-busing-Zyx1bK9mqmA-unsplash.jpg;FMTTYPE=image/jpeg:h
 ttps://dq5pwpg1q8ru0.cloudfront.net/2023/02/21/08/28/45/5318f4d6-528b-43c5
 -96f3-4e433b1ca208/hannah-busing-Zyx1bK9mqmA-unsplash.jpg
END:VEVENT
END:VCALENDAR
