BEGIN:VCALENDAR
VERSION:2.0
PRODID:icalendar-ruby
CALSCALE:GREGORIAN
METHOD:PUBLISH
BEGIN:VEVENT
DTSTAMP:20260426T035919Z
UID:7-760275@christcovenantchurch.ca
DTSTART:20261004T220000Z
DTEND:20261005T000000Z
CLASS:PUBLIC
CREATED:20260425T180445
DESCRIPTION:Weekly Lord’s Day Worship
LAST-MODIFIED:20260425T180445
LOCATION:1012 Chem. Saint Clare\, Mont-Royal\, QC
SUMMARY:Weekly Lord’s Day Worship
URL;VALUE=URI:https://www.christcovenantchurch.ca/events/weekly-lord-s-day-
 worship/2026-10-04
END:VEVENT
END:VCALENDAR
